BEGIN:VCALENDAR
VERSION:2.0
PRODID:-//Moon Prep - ECPv6.15.18//NONSGML v1.0//EN
CALSCALE:GREGORIAN
METHOD:PUBLISH
X-WR-CALNAME:Moon Prep
X-ORIGINAL-URL:https://staging.moonprep.com
X-WR-CALDESC:Events for Moon Prep
REFRESH-INTERVAL;VALUE=DURATION:PT1H
X-Robots-Tag:noindex
X-PUBLISHED-TTL:PT1H
BEGIN:VTIMEZONE
TZID:America/New_York
BEGIN:DAYLIGHT
TZOFFSETFROM:-0500
TZOFFSETTO:-0400
TZNAME:EDT
DTSTART:20200308T070000
END:DAYLIGHT
BEGIN:STANDARD
TZOFFSETFROM:-0400
TZOFFSETTO:-0500
TZNAME:EST
DTSTART:20201101T060000
END:STANDARD
BEGIN:DAYLIGHT
TZOFFSETFROM:-0500
TZOFFSETTO:-0400
TZNAME:EDT
DTSTART:20210314T070000
END:DAYLIGHT
BEGIN:STANDARD
TZOFFSETFROM:-0400
TZOFFSETTO:-0500
TZNAME:EST
DTSTART:20211107T060000
END:STANDARD
BEGIN:DAYLIGHT
TZOFFSETFROM:-0500
TZOFFSETTO:-0400
TZNAME:EDT
DTSTART:20220313T070000
END:DAYLIGHT
BEGIN:STANDARD
TZOFFSETFROM:-0400
TZOFFSETTO:-0500
TZNAME:EST
DTSTART:20221106T060000
END:STANDARD
END:VTIMEZONE
BEGIN:VEVENT
DTSTART;TZID=America/New_York:20210209T200000
DTEND;TZID=America/New_York:20210209T210000
DTSTAMP:20260423T012026
CREATED:20210113T010923Z
LAST-MODIFIED:20210209T210657Z
UID:10000153-1612900800-1612904400@staging.moonprep.com
SUMMARY:Webinar: Summer Planning In A Covid World - Virtual Ideas For High School Students
DESCRIPTION:Summer might seem far away\, but now is the perfect time to start planning for it.  \nMoon Prep Counselors Lindsey and Michaela will cover how students can spend their summer productively by building their resumes through virtual activities.  \nThe webinar will cover how to: \n\nComplete an independent research project\nBecome a published author\nAttend virtual summer camps\nComplete community service\n And more\n\nParticipants will be able to ask any questions and have an experienced counselor provide expert guidance. \nEven if you can’t make the webinar date\, a recording will be sent out to everyone who registered. \nSign up for the webinar here. \n  \n 
URL:https://staging.moonprep.com/event/webinar-summer-planning-in-a-covid-world-virtual-ideas-for-high-school-students/
LOCATION:Virtual Webinar: YouTube
CATEGORIES:Webinar
ATTACH;FMTTYPE=image/png:https://staging.moonprep.com/wp-content/uploads/2021/01/Med-School-Webinar-14.png
ORGANIZER;CN="Moon Prep":MAILTO:hello@moonprep.com
END:VEVENT
BEGIN:VEVENT
DTSTART;TZID=America/New_York:20210225T200000
DTEND;TZID=America/New_York:20210225T210000
DTSTAMP:20260423T012026
CREATED:20210113T012925Z
LAST-MODIFIED:20210209T211448Z
UID:10000154-1614283200-1614286800@staging.moonprep.com
SUMMARY:Webinar: Beat The Odds—Insider Tips For Applying to Medical School
DESCRIPTION:Join Moon Prep Counselors Lindsey C and Michaela S\, experienced medical school admission counselors\, as they review what you should be doing in the upcoming months to prepare for your medical school application. \nDuring this hour-long webinar\, we will be talking about: \n\nThe various application platforms\nTimeline for applying to both allopathic and osteopathic medical schools\nHow to prepare for applying to medical schools\nTips to strengthen your resume\nThe impact of the coronavirus on the med school process\n\nAt the end of the webinar\, we will reserve time for Q&A. Ask your questions at the event or email them to lindsey@moonprep.com \nEven if you can’t make the webinar date\, a recording will be sent out to everyone who registered.  \n  \nSign up for the webinar here.  \n  \n  \n  \n  \n  \n  \n  \n  \n 
URL:https://staging.moonprep.com/event/webinar-beat-the-odds-insider-tips-for-applying-to-medical-school/
LOCATION:Virtual Webinar: YouTube
CATEGORIES:Webinar
ATTACH;FMTTYPE=image/png:https://staging.moonprep.com/wp-content/uploads/2021/01/Med-School-Webinar-13.png
ORGANIZER;CN="Moon Prep":MAILTO:hello@moonprep.com
END:VEVENT
END:VCALENDAR