BEGIN:VCALENDAR
VERSION:2.0
PRODID:-//Moon Prep - ECPv6.15.18//NONSGML v1.0//EN
CALSCALE:GREGORIAN
METHOD:PUBLISH
X-ORIGINAL-URL:https://staging.moonprep.com
X-WR-CALDESC:Events for Moon Prep
REFRESH-INTERVAL;VALUE=DURATION:PT1H
X-Robots-Tag:noindex
X-PUBLISHED-TTL:PT1H
BEGIN:VTIMEZONE
TZID:America/New_York
BEGIN:DAYLIGHT
TZOFFSETFROM:-0500
TZOFFSETTO:-0400
TZNAME:EDT
DTSTART:20210314T070000
END:DAYLIGHT
BEGIN:STANDARD
TZOFFSETFROM:-0400
TZOFFSETTO:-0500
TZNAME:EST
DTSTART:20211107T060000
END:STANDARD
BEGIN:DAYLIGHT
TZOFFSETFROM:-0500
TZOFFSETTO:-0400
TZNAME:EDT
DTSTART:20220313T070000
END:DAYLIGHT
BEGIN:STANDARD
TZOFFSETFROM:-0400
TZOFFSETTO:-0500
TZNAME:EST
DTSTART:20221106T060000
END:STANDARD
BEGIN:DAYLIGHT
TZOFFSETFROM:-0500
TZOFFSETTO:-0400
TZNAME:EDT
DTSTART:20230312T070000
END:DAYLIGHT
BEGIN:STANDARD
TZOFFSETFROM:-0400
TZOFFSETTO:-0500
TZNAME:EST
DTSTART:20231105T060000
END:STANDARD
END:VTIMEZONE
BEGIN:VEVENT
DTSTART;TZID=America/New_York:20220707T200000
DTEND;TZID=America/New_York:20220707T210000
DTSTAMP:20260421T223051
CREATED:20220420T191248Z
LAST-MODIFIED:20220916T144041Z
UID:10000192-1657224000-1657227600@staging.moonprep.com
SUMMARY:How To Write A Winning Personal Statement For College
DESCRIPTION:What can you offer the colleges\, besides the numbers? This is where your essay comes in. It turns you into a three-dimensional person and helps you stand out from a crowded field of applicants. \n  \nWriting the personal statement—and even just brainstorming a topic—can be a struggle for high school students. That is why Moon Prep put together the collective knowledge of the team to create a webinar to help you with this tricky topic. \n  \nIn this webinar\, Moon Prep counselors will go over everything you need to know about writing the personal statement\, including: \n\nBrainstorming a topic\nWhat topics to avoid\nHow to strengthen your writing\nAnd everything you need to know about the Common App!\n\n  \nSign up here.
URL:https://staging.moonprep.com/event/how-to-write-a-winning-personal-statement-for-college-3/
LOCATION:Virtual Webinar: Zoom
CATEGORIES:Webinar
ATTACH;FMTTYPE=image/png:https://staging.moonprep.com/wp-content/uploads/2022/04/5.png
ORGANIZER;CN="Moon Prep":MAILTO:hello@moonprep.com
END:VEVENT
BEGIN:VEVENT
DTSTART;TZID=America/New_York:20220721T200000
DTEND;TZID=America/New_York:20220721T210000
DTSTAMP:20260421T223051
CREATED:20220420T191544Z
LAST-MODIFIED:20220916T143348Z
UID:10000193-1658433600-1658437200@staging.moonprep.com
SUMMARY:How To WOW College Admissions Staff With Your Extracurriculars
DESCRIPTION:It’s more important than ever to plan the rest of high school mindfully by choosing the right AP classes and building the most competitive resume that highlights their strengths and passions. \nMoon Prep Counselors will cover how students can spend their year productively by building their resumes through activities. \nThe webinar will cover how to: \n\nComplete an independent research project\nBecome a published author\nAttend virtual camps\nComplete community service\nAnd more!\n\nParticipants will be able to ask any questions and have an experienced counselor provide expert guidance. \n  \nEven if you can’t make the webinar date\, a recording will be sent out to everyone who registered. \n  \nSign up here.
URL:https://staging.moonprep.com/event/how-to-wow-college-admissions-staff-with-your-extracurriculars-2/
LOCATION:Virtual Webinar: Zoom
CATEGORIES:Webinar
ATTACH;FMTTYPE=image/png:https://staging.moonprep.com/wp-content/uploads/2022/04/6.png
ORGANIZER;CN="Moon Prep":MAILTO:hello@moonprep.com
END:VEVENT
END:VCALENDAR