BEGIN:VCALENDAR
VERSION:2.0
PRODID:-//Moon Prep - ECPv6.15.18//NONSGML v1.0//EN
CALSCALE:GREGORIAN
METHOD:PUBLISH
X-WR-CALNAME:Moon Prep
X-ORIGINAL-URL:https://staging.moonprep.com
X-WR-CALDESC:Events for Moon Prep
REFRESH-INTERVAL;VALUE=DURATION:PT1H
X-Robots-Tag:noindex
X-PUBLISHED-TTL:PT1H
BEGIN:VTIMEZONE
TZID:America/New_York
BEGIN:DAYLIGHT
TZOFFSETFROM:-0500
TZOFFSETTO:-0400
TZNAME:EDT
DTSTART:20210314T070000
END:DAYLIGHT
BEGIN:STANDARD
TZOFFSETFROM:-0400
TZOFFSETTO:-0500
TZNAME:EST
DTSTART:20211107T060000
END:STANDARD
BEGIN:DAYLIGHT
TZOFFSETFROM:-0500
TZOFFSETTO:-0400
TZNAME:EDT
DTSTART:20220313T070000
END:DAYLIGHT
BEGIN:STANDARD
TZOFFSETFROM:-0400
TZOFFSETTO:-0500
TZNAME:EST
DTSTART:20221106T060000
END:STANDARD
BEGIN:DAYLIGHT
TZOFFSETFROM:-0500
TZOFFSETTO:-0400
TZNAME:EDT
DTSTART:20230312T070000
END:DAYLIGHT
BEGIN:STANDARD
TZOFFSETFROM:-0400
TZOFFSETTO:-0500
TZNAME:EST
DTSTART:20231105T060000
END:STANDARD
END:VTIMEZONE
BEGIN:VEVENT
DTSTART;TZID=America/New_York:20220621T183000
DTEND;TZID=America/New_York:20220721T203000
DTSTAMP:20260419T173700
CREATED:20220307T152123Z
LAST-MODIFIED:20220314T004220Z
UID:10000186-1655836200-1658435400@staging.moonprep.com
SUMMARY:Application iQ
DESCRIPTION:Spend your summer working on all the elements of your college applications\, including the essays\, and start the fall semester with a head start over your classmates. Students benefit from fast-paced and productive live\, online classes led by a team of experienced college counselors. \nJoin from anywhere. Every class is recorded\, and students receive a link to replay and review afterward. \n2 Editions Of The Camp Experience Are Available\nApplication iQ camp \n\nInvestment $1500 – Receive a $200 discount if you enroll by May 1\n3 weeks long – meeting 2x a week \nStudent profile: rising 12th grade. International students are welcome.\nSummer 2022 Dates: Tues/Thurs (6/21 – 7/8)\, 6:30-8:30p ET\n\nThe BS/MD Edition adds 2 weeks onto the camp experience and will focus on the nuances of the BS/MD application process\, including strategies for the medical-focused essay questions. \n\nInvestment $2500 – Receive a $200 discount if you enroll by May 1\n5 weeks long – meeting 2x a week \nStudent profile: rising 12th grade. International students are welcome.\nSummer 2022 Dates: Tues/Thurs (6/21 – 7/21)\, 6:30-8:30p ET\n\nCourse syllabus and learning objectives can be found here  \nEnroll Now – Receive a $200 discount if you enroll by May 1 \nBefore the Camp\n\nStudents and parents are invited to a pre-camp online webinar to meet the counselors\, set expectations\, discuss a roadmap for camp success\, and Q&A. \nStudents will receive eBooks\, templates\, sample essays\, and access to numerous resources to help guide them through the application process.\nStudents will receive pre-camp essay brainstorming assignments. The objective is for them to be productive from day one.\n\nDuring the Camp\n\nApplication iQ camp is live\, online\, and led by a team of experienced college counselors.\nClasses are interactive\, and students will participate in smaller break-out sessions with their peers.\nIn addition to the live\, weekly classes\, each student’s essays will be professionally edited offline\, and they receive personalized guidance regarding their applications.\nStudents can expect homework each week and should plan to dedicate 4-5 hours per week for assignments. \n\nWhat Students Will Accomplish\n\nCreate a balanced college list \nUnderstand the various ways to apply – Early Admission (EA)\, Early Decision (ED)\, Restrictive Early Action (REA)\, Rolling Admission\, and Regular Admission \nA captivating personal statement and supplemental essays\nActivity list highlighting your achievements\nA roadmap and timeline for the complete application process\nOrganizational skills to help the student stay on track and effectively manage the application process \nTips and tricks on how to fill out the Common App + other applications\nThe Moon Prep team of experienced counselors will professionally edit personal statements\, essays\, and activity lists so that students leave the camp with Final Drafts\, ready to submit\n\n\nBS/MD Edition\n\nAn additional 2 weeks added onto the camp experience for students pursuing Direct Medical Programs\nInsights into how the BS/MD process differs from traditional admissions\nUnderstand what a BS/MD focused college list should look like and how many programs students typically apply to\nWrite compelling medical-related essays \nTips for acing the Multiple Mini Interview (MMI)\nHow to tackle the CASPer\nBS/MD vs. BS/DO \nQ&A with counselors who specialize in BS/MD and medical school admissions\n\n\nCourse syllabus and learning objectives can be found here  \nEnroll Now – Receive a $200 discount if you enroll by May 1
URL:https://staging.moonprep.com/event/application-iq/
LOCATION:Virtual Webinar: Zoom
ATTACH;FMTTYPE=image/png:https://staging.moonprep.com/wp-content/uploads/2022/03/8.png
ORGANIZER;CN="Moon Prep":MAILTO:hello@moonprep.com
END:VEVENT
BEGIN:VEVENT
DTSTART;TZID=America/New_York:20220705T150000
DTEND;TZID=America/New_York:20220729T170000
DTSTAMP:20260419T173701
CREATED:20220207T204900Z
LAST-MODIFIED:20220328T163156Z
UID:10000185-1657033200-1659114000@staging.moonprep.com
SUMMARY:Rising Researchers - Summer Research Intensive Course
DESCRIPTION:During Rising Researchers\, a Summer Research Intensive Course\, students will explore microbiology and bioinformatics under the guidance of a scientist from UMass. This is a 4-week online summer research class with four learning units organized by themes. The course is designed to provide students with an introduction to the principles of the scientific method\, microbiology and bioinformatics; the use of online computer resources to understand molecular biology information.  \nThrough lectures\, hands-on experiments at home\, online databases\, computer software\, class and small group discussions\, students will delve into the microbial world with emphasis on the interactions of microorganisms with humans and plants\, and their impact on disease and agriculture. The hands-on experiments and bioinformatics analyses will emphasize the proper use of the scientific method to answer a research question\, develop a hypothesis\, safely carry out experiments at home\, make observations\, analyze\, interpret and communicate results.  \nCourse syllabus and learning objectives can be found here\nLearning Units\n\n\nThe scientific method and introduction to microbiology and bioinformatics to analyze molecular biology information.  \n\n\nHost-microbe interactions including the human microbiome and bacteria-plant interactions.  \n\n\nMicrobial genetics and isolation of bacteria from host tissue.  \n\n\nBioinformatics tools to address a microbiology or molecular biology question by searching and analyzing DNA and protein sequences from online databases and computer software\, and interpreting search results.  \n\n\nApply here. \nProgram Details\nDates: July 5 – July 29\, 2022 \nSchedule: Mon\, Tues\, Wed\, Thurs 3pm – 5pm ET (live lessons)\, office hours + Q&A on Friday 3pm – 4pm ET \nAcademic Credit: 2 College Credits + Certification of Completion issued by University of Massachusetts Amherst (UMass) \nStudent Profile: Rising 9th – 12th grade. International students are welcome to apply. \nCourse Prerequisites: This course has no course prerequisites\, but requires students to be committed to attend classes\, learn\, fully participate in the class experiments and discussions\, and be respectful to each other. \nFormat: Online with live (synchronous) sessions + offline (asynchronous) assignments. \nCost: $4\,900. \nPayment Details: A 50% deposit is required to secure a student’s spot\, with the remaining balance due 60 days prior to the program start date. Non-refundable. \nApplication Deadline: June 1\, 2022 or when all spots have been filled (rolling admissions). Space is limited. \nApply here. Students get a $200 discount if they apply by May 1. \nFind more information on RisingResearchers.com
URL:https://staging.moonprep.com/event/rising-researchers-summer-research-intensive-course/
LOCATION:Virtual Webinar: Zoom
ATTACH;FMTTYPE=image/png:https://staging.moonprep.com/wp-content/uploads/2022/02/Rising-Researchers.png
ORGANIZER;CN="Moon Prep":MAILTO:hello@moonprep.com
END:VEVENT
END:VCALENDAR