BEGIN:VCALENDAR
VERSION:2.0
PRODID:-//Moon Prep - ECPv6.15.18//NONSGML v1.0//EN
CALSCALE:GREGORIAN
METHOD:PUBLISH
X-WR-CALNAME:Moon Prep
X-ORIGINAL-URL:https://staging.moonprep.com
X-WR-CALDESC:Events for Moon Prep
REFRESH-INTERVAL;VALUE=DURATION:PT1H
X-Robots-Tag:noindex
X-PUBLISHED-TTL:PT1H
BEGIN:VTIMEZONE
TZID:America/New_York
BEGIN:DAYLIGHT
TZOFFSETFROM:-0500
TZOFFSETTO:-0400
TZNAME:EDT
DTSTART:20220313T070000
END:DAYLIGHT
BEGIN:STANDARD
TZOFFSETFROM:-0400
TZOFFSETTO:-0500
TZNAME:EST
DTSTART:20221106T060000
END:STANDARD
BEGIN:DAYLIGHT
TZOFFSETFROM:-0500
TZOFFSETTO:-0400
TZNAME:EDT
DTSTART:20230312T070000
END:DAYLIGHT
BEGIN:STANDARD
TZOFFSETFROM:-0400
TZOFFSETTO:-0500
TZNAME:EST
DTSTART:20231105T060000
END:STANDARD
BEGIN:DAYLIGHT
TZOFFSETFROM:-0500
TZOFFSETTO:-0400
TZNAME:EDT
DTSTART:20240310T070000
END:DAYLIGHT
BEGIN:STANDARD
TZOFFSETFROM:-0400
TZOFFSETTO:-0500
TZNAME:EST
DTSTART:20241103T060000
END:STANDARD
BEGIN:DAYLIGHT
TZOFFSETFROM:-0500
TZOFFSETTO:-0400
TZNAME:EDT
DTSTART:20250309T070000
END:DAYLIGHT
BEGIN:STANDARD
TZOFFSETFROM:-0400
TZOFFSETTO:-0500
TZNAME:EST
DTSTART:20251102T060000
END:STANDARD
END:VTIMEZONE
BEGIN:VEVENT
DTSTART;TZID=America/New_York:20231219T190000
DTEND;TZID=America/New_York:20240112T203000
DTSTAMP:20260422T103807
CREATED:20231020T224059Z
LAST-MODIFIED:20231116T220821Z
UID:10000276-1703012400-1705091400@staging.moonprep.com
SUMMARY:Winter Break - Research Camp Intensive
DESCRIPTION:Winter Break – Research Camp Intensive \n\nGain valuable research experience in only 4 weeks.\nTake advantage of your winter break from school. \nWork alongside peers in a small class cohort\, under the guidance of a research mentor.\nDeliverables include a research publication\, poster presentation\, certificate of completion\, and letter of recommendation.\nResearch publication – each student will have their own URL containing their written research report that is peer reviewed and indexed.\n\nSchedule: 4 weeks long – meeting 2x a week \nDates: Every Tues/Fri (12/19-1/12)\, 7:00p – 8:30p ET/4:00p – 5:30p PT \nResearch Topic: Social determinants of health in cardiovascular disease. An intersection between how public health impacts medicine. \nCost: $3200 \nRegister here or schedule a call to learn more.even \n 
URL:https://staging.moonprep.com/event/winter-break-research-camp-intensive/
ATTACH;FMTTYPE=image/jpeg:https://staging.moonprep.com/wp-content/uploads/2023/10/Rising-Researchers-2.jpg
ORGANIZER;CN="Moon Prep":MAILTO:hello@moonprep.com
END:VEVENT
END:VCALENDAR