BEGIN:VCALENDAR
VERSION:2.0
PRODID:-//Moon Prep - ECPv6.15.18//NONSGML v1.0//EN
CALSCALE:GREGORIAN
METHOD:PUBLISH
X-ORIGINAL-URL:https://staging.moonprep.com
X-WR-CALDESC:Events for Moon Prep
REFRESH-INTERVAL;VALUE=DURATION:PT1H
X-Robots-Tag:noindex
X-PUBLISHED-TTL:PT1H
BEGIN:VTIMEZONE
TZID:America/New_York
BEGIN:DAYLIGHT
TZOFFSETFROM:-0500
TZOFFSETTO:-0400
TZNAME:EDT
DTSTART:20240310T070000
END:DAYLIGHT
BEGIN:STANDARD
TZOFFSETFROM:-0400
TZOFFSETTO:-0500
TZNAME:EST
DTSTART:20241103T060000
END:STANDARD
BEGIN:DAYLIGHT
TZOFFSETFROM:-0500
TZOFFSETTO:-0400
TZNAME:EDT
DTSTART:20250309T070000
END:DAYLIGHT
BEGIN:STANDARD
TZOFFSETFROM:-0400
TZOFFSETTO:-0500
TZNAME:EST
DTSTART:20251102T060000
END:STANDARD
BEGIN:DAYLIGHT
TZOFFSETFROM:-0500
TZOFFSETTO:-0400
TZNAME:EDT
DTSTART:20260308T070000
END:DAYLIGHT
BEGIN:STANDARD
TZOFFSETFROM:-0400
TZOFFSETTO:-0500
TZNAME:EST
DTSTART:20261101T060000
END:STANDARD
END:VTIMEZONE
BEGIN:VEVENT
DTSTART;TZID=America/New_York:20250623T163000
DTEND;TZID=America/New_York:20250804T180000
DTSTAMP:20260420T075233
CREATED:20250219T191141Z
LAST-MODIFIED:20250220T152536Z
UID:10000328-1750696200-1754330400@staging.moonprep.com
SUMMARY:Rising Researchers Summer Camp: Biology Meets No-Code AI and ML Programming: Bioinformatics Research in Medicine or Microbiology for Beginners
DESCRIPTION:Schedule: 12 sessions – meeting 2x a week\, approx. 75-90 mins each \nDates: Every Mon/Thurs (6/23/25 – 8/4/25) 4:30p – 6:00p ET/1:30p – 3:00p PT \nTopics covered: \n\nBiology Meets No-Code AI and ML Programming: Bioinformatics Research in Medicine or Microbiology for Beginners\n\nLearn More
URL:https://staging.moonprep.com/event/rising-researchers-summer-camp-biology-meets-no-code-ai-and-ml-programming-bioinformatics-research-in-medicine-or-microbiology-for-beginners/
LOCATION:Virtual Webinar: Zoom
ORGANIZER;CN="Moon Prep":MAILTO:hello@moonprep.com
END:VEVENT
BEGIN:VEVENT
DTSTART;TZID=America/New_York:20250708T180000
DTEND;TZID=America/New_York:20250816T193000
DTSTAMP:20260420T075233
CREATED:20250219T191602Z
LAST-MODIFIED:20250903T150928Z
UID:10000329-1751997600-1755372600@staging.moonprep.com
SUMMARY:Rising Researchers Summer Camp: Social determinants of health in cardiovascular disease: The intersection of public health and medicine.
DESCRIPTION:Schedule: 12 sessions – meeting 2x a week\, approx. 75-90 mins each \nDates Every Tues/Sat  (7/8/25 – 8/16/25  6:00p – 7:30p ET/3:00p – 4:30p PT \nTopics covered: \n\nSocial determinants of health in cardiovascular disease: The intersection of public health and medicine.\n\nLearn More
URL:https://staging.moonprep.com/event/rising-researchers-summer-camp-social-determinants-of-health-in-cardiovascular-disease-the-intersection-of-public-health-and-medicine/
LOCATION:Virtual Webinar: Zoom
ORGANIZER;CN="Moon Prep":MAILTO:hello@moonprep.com
END:VEVENT
END:VCALENDAR