BEGIN:VCALENDAR
VERSION:2.0
PRODID:-//Moon Prep - ECPv6.15.18//NONSGML v1.0//EN
CALSCALE:GREGORIAN
METHOD:PUBLISH
X-WR-CALNAME:Moon Prep
X-ORIGINAL-URL:https://staging.moonprep.com
X-WR-CALDESC:Events for Moon Prep
REFRESH-INTERVAL;VALUE=DURATION:PT1H
X-Robots-Tag:noindex
X-PUBLISHED-TTL:PT1H
BEGIN:VTIMEZONE
TZID:America/New_York
BEGIN:DAYLIGHT
TZOFFSETFROM:-0500
TZOFFSETTO:-0400
TZNAME:EDT
DTSTART:20190310T070000
END:DAYLIGHT
BEGIN:STANDARD
TZOFFSETFROM:-0400
TZOFFSETTO:-0500
TZNAME:EST
DTSTART:20191103T060000
END:STANDARD
BEGIN:DAYLIGHT
TZOFFSETFROM:-0500
TZOFFSETTO:-0400
TZNAME:EDT
DTSTART:20200308T070000
END:DAYLIGHT
BEGIN:STANDARD
TZOFFSETFROM:-0400
TZOFFSETTO:-0500
TZNAME:EST
DTSTART:20201101T060000
END:STANDARD
BEGIN:DAYLIGHT
TZOFFSETFROM:-0500
TZOFFSETTO:-0400
TZNAME:EDT
DTSTART:20210314T070000
END:DAYLIGHT
BEGIN:STANDARD
TZOFFSETFROM:-0400
TZOFFSETTO:-0500
TZNAME:EST
DTSTART:20211107T060000
END:STANDARD
END:VTIMEZONE
BEGIN:VEVENT
DTSTART;TZID=America/New_York:20200903T200000
DTEND;TZID=America/New_York:20200903T210000
DTSTAMP:20260421T001204
CREATED:20200625T214353Z
LAST-MODIFIED:20200709T092745Z
UID:10000148-1599163200-1599166800@staging.moonprep.com
SUMMARY:Webinar: Big Changes Affecting College Admissions
DESCRIPTION:In the best of times\, applying to colleges and universities is stressful. Getting high grades\, good SAT or ACT scores\, taking multiple AP exams\, asking for letters of recommendation\, and participating in extracurricular activities takes months or years of preparation. \nBut for students who are planning on applying to college\, this process has been more stressful due to the Covid-19 pandemic. Schools going remote\, SAT and ACT tests canceled\, extracurricular activities postponed\, and many other changes have occurred in the past year. \nIn addition to the changes brought about the pandemic\, there have been other changes to the process\, including how students can be recruited\, financial incentives\, and transfer rules. \nIn this webinar\, Moon Prep counselor Lindsey will cover everything you need to know about the changing college admissions scene. Participants will be able to ask their questions about college admissions and get advice from an experienced college admissions counselor. \nSign up here.
URL:https://staging.moonprep.com/event/webinar-big-changes-affecting-college-admissions/
LOCATION:Virtual Webinar: Zoom
ATTACH;FMTTYPE=image/png:https://staging.moonprep.com/wp-content/uploads/2020/06/4.png
ORGANIZER;CN="Moon Prep":MAILTO:hello@moonprep.com
END:VEVENT
BEGIN:VEVENT
DTSTART;TZID=America/New_York:20200810T200000
DTEND;TZID=America/New_York:20200810T210000
DTSTAMP:20260421T001204
CREATED:20200625T213117Z
LAST-MODIFIED:20200709T092651Z
UID:10000147-1597089600-1597093200@staging.moonprep.com
SUMMARY:Webinar: Writing The Personal Statement
DESCRIPTION: \n\n\n\nWhat can you offer the colleges\, besides the numbers? This is where your essay comes in. It turns you into a three-dimensional person and helps you stand out from a crowded field of applicants. \nWriting the personal statement—and even just brainstorming a topic—can be a struggle for high school students. That is why Moon Prep put together the collective knowledge of the team to create this video course that has everything you need to know to write a rockstar personal statement. \nIn this webinar\, Moon Prep counselors Lindsey and Michaela will go over everything you need to know about writing the personal statement\, including:  \n\nBrainstorming a topic\nWhat topics to avoid\nHow to strengthen your writing \nAnd everything you need to know about the Common App!\n\nParticipants will be able to ask their questions about college admissions and get advice from an experienced college admissions counselor.  \nSign up here.
URL:https://staging.moonprep.com/event/webinar-writing-the-personal-statement-for-college-admissions/
LOCATION:Virtual Webinar: Zoom
ATTACH;FMTTYPE=image/png:https://staging.moonprep.com/wp-content/uploads/2020/06/Med-SChool-WEbinar-1.png
ORGANIZER;CN="Moon Prep":MAILTO:hello@moonprep.com
END:VEVENT
BEGIN:VEVENT
DTSTART;TZID=America/New_York:20200707T200000
DTEND;TZID=America/New_York:20200707T210000
DTSTAMP:20260421T001204
CREATED:20200612T235349Z
LAST-MODIFIED:20200709T092735Z
UID:10000146-1594152000-1594155600@staging.moonprep.com
SUMMARY:Webinar: Applying to BS/MD (Direct Medical) Programs - What You Need To Know
DESCRIPTION:Direct medical programs—also known as BS/MD\, BA/MD\, BS/DO\, or BA/DO—are some of the most competitive programs in the college admission process\, with some programs only accepting 6 applicants a year. Students accepted into a BS/MD program can finish their undergraduate studies and go directly into medical school thanks to a partnership between the two institutions. \nFor high school students who already know that they are 100% committed to becoming a doctor\, a direct medical program might be the right choice. Students can get accepted into a medical school at the same time as undergraduate programs\, giving them a distinct advantage over their peers. \nIn this webinar\, we will cover everything you need to know about BS/MD programs\, including: \n\nAdvantages and disadvantages of applying to the program\nWhen to start preparing\nBuilding your academic profile\nExtracurricular activities\n\nAsk questions and get advice from an experienced college counselor at MoonPrep.com. \nSign up here
URL:https://staging.moonprep.com/event/webinar-applying-to-bs-md-direct-medicalprograms-what-you-need-to-know/
LOCATION:Virtual Webinar: Zoom
ATTACH;FMTTYPE=image/png:https://staging.moonprep.com/wp-content/uploads/2020/06/Med-SChool-WEbinar-7.png
ORGANIZER;CN="Moon Prep":MAILTO:hello@moonprep.com
END:VEVENT
BEGIN:VEVENT
DTSTART;TZID=America/New_York:20200617T200000
DTEND;TZID=America/New_York:20200617T210000
DTSTAMP:20260421T001204
CREATED:20200612T233912Z
LAST-MODIFIED:20200709T092728Z
UID:10000145-1592424000-1592427600@staging.moonprep.com
SUMMARY:Webinar: A Checklist for Summer for Rising Seniors
DESCRIPTION:Although life seems like it won’t get back to normal anytime soon\, you should have a plan for the summer. \nMoon Prep counselor Michaela will cover a checklist for the summer for high schoolers including how to build your resume\, prepare for the college application and understand the college admission process. \nShe will also share ideas on how students can stand out and make a difference during the coronavirus pandemic. \nParticipants will be able to ask any questions and have an experienced counselor provide expert guidance. \nEven if you can’t make the webinar date\, a recording will be sent out to everyone who registered. \nSign up here. 
URL:https://staging.moonprep.com/event/webinar-a-checklist-for-summer-for-rising-seniors/
LOCATION:Virtual Webinar: Zoom
ATTACH;FMTTYPE=image/png:https://staging.moonprep.com/wp-content/uploads/2020/06/Med-SChool-WEbinar-5.png
ORGANIZER;CN="Moon Prep":MAILTO:hello@moonprep.com
END:VEVENT
END:VCALENDAR