BEGIN:VCALENDAR
VERSION:2.0
PRODID:-//Moon Prep - ECPv6.15.18//NONSGML v1.0//EN
CALSCALE:GREGORIAN
METHOD:PUBLISH
X-ORIGINAL-URL:https://staging.moonprep.com
X-WR-CALDESC:Events for Moon Prep
REFRESH-INTERVAL;VALUE=DURATION:PT1H
X-Robots-Tag:noindex
X-PUBLISHED-TTL:PT1H
BEGIN:VTIMEZONE
TZID:America/New_York
BEGIN:DAYLIGHT
TZOFFSETFROM:-0500
TZOFFSETTO:-0400
TZNAME:EDT
DTSTART:20220313T070000
END:DAYLIGHT
BEGIN:STANDARD
TZOFFSETFROM:-0400
TZOFFSETTO:-0500
TZNAME:EST
DTSTART:20221106T060000
END:STANDARD
BEGIN:DAYLIGHT
TZOFFSETFROM:-0500
TZOFFSETTO:-0400
TZNAME:EDT
DTSTART:20230312T070000
END:DAYLIGHT
BEGIN:STANDARD
TZOFFSETFROM:-0400
TZOFFSETTO:-0500
TZNAME:EST
DTSTART:20231105T060000
END:STANDARD
BEGIN:DAYLIGHT
TZOFFSETFROM:-0500
TZOFFSETTO:-0400
TZNAME:EDT
DTSTART:20240310T070000
END:DAYLIGHT
BEGIN:STANDARD
TZOFFSETFROM:-0400
TZOFFSETTO:-0500
TZNAME:EST
DTSTART:20241103T060000
END:STANDARD
END:VTIMEZONE
BEGIN:VEVENT
DTSTART;TZID=America/New_York:20230427T200000
DTEND;TZID=America/New_York:20230427T210000
DTSTAMP:20260423T060128
CREATED:20230410T213151Z
LAST-MODIFIED:20230413T194103Z
UID:10000270-1682625600-1682629200@staging.moonprep.com
SUMMARY:Webinar: Beat The Odds—Insider Tips For Applying to Medical School
DESCRIPTION:Join Moon Prep’s experienced medical school admission counselors\, as they review what you should be doing in the upcoming months to prepare for your medical school application. \nDuring this hour-long webinar\, we will be talking about: \n– The various application platforms \n– Timeline for applying to both allopathic and osteopathic medical schools \n– How to prepare for applying to medical schools \n– Tips to strengthen your resume \nAt the end of the webinar\, we will reserve time for Q&A. Ask your questions at the event or email them to lindsey@moonprep.com \nSign up here. 
URL:https://staging.moonprep.com/event/beat-the-odds-insider-tips-for-applying-to-medical-school-3/
LOCATION:Virtual Webinar: YouTube
CATEGORIES:Webinar
ATTACH;FMTTYPE=image/png:https://staging.moonprep.com/wp-content/uploads/2023/04/Webinar-Images-3.png
ORGANIZER;CN="Moon Prep":MAILTO:hello@moonprep.com
END:VEVENT
BEGIN:VEVENT
DTSTART;TZID=America/New_York:20230508T170000
DTEND;TZID=America/New_York:20230508T180000
DTSTAMP:20260423T060128
CREATED:20230410T220533Z
LAST-MODIFIED:20230413T194108Z
UID:10000272-1683565200-1683568800@staging.moonprep.com
SUMMARY:Webinar: Q&A with a Medical School Admissions Consultant
DESCRIPTION:Moon Prep will be hosting a live Q&A session to answer many of the questions you have about the college application process. We will be covering everything including: \n\nWhat it’s like working with Moon Prep\nHow to build a unique resume\nPassion projects\nGetting research experience\nMedical school admission essays\nMD vs DO\nand more!\n\nSign up here. 
URL:https://staging.moonprep.com/event/webinar-qa-with-a-medical-school-admissions-consultant/
LOCATION:Virtual Webinar: Zoom
CATEGORIES:Webinar
ATTACH;FMTTYPE=image/png:https://staging.moonprep.com/wp-content/uploads/2023/04/Webinar-Images-4.png
ORGANIZER;CN="Moon Prep":MAILTO:hello@moonprep.com
END:VEVENT
BEGIN:VEVENT
DTSTART;TZID=America/New_York:20230518T200000
DTEND;TZID=America/New_York:20230518T210000
DTSTAMP:20260423T060128
CREATED:20230328T002609Z
LAST-MODIFIED:20230413T194130Z
UID:10000268-1684440000-1684443600@staging.moonprep.com
SUMMARY:Webinar: Q&A With A Moon Prep Counselor
DESCRIPTION:Moon Prep will be hosting a live Q&A session to answer many of the questions you have about the college application process. We will be covering everything including: \n\nWhat it’s like working with Moon Prep\nWhat is a BS/MD (direct medical program)\nHow to build a unique resume\nPassion projects\nGetting research experience when you are still in high school\nCollege admission essays\nWhy choose a BS/MD program\nBS/MD vs traditional pre-med programs\nand more!\n\nSign up here. 
URL:https://staging.moonprep.com/event/qa-with-a-moon-prep-counselor/
LOCATION:Virtual Webinar: YouTube
CATEGORIES:Webinar
ATTACH;FMTTYPE=image/png:https://staging.moonprep.com/wp-content/uploads/2023/03/Webinar-Images-4-min.png
ORGANIZER;CN="Moon Prep":MAILTO:hello@moonprep.com
END:VEVENT
BEGIN:VEVENT
DTSTART;TZID=America/New_York:20230606T200000
DTEND;TZID=America/New_York:20230606T210000
DTSTAMP:20260423T060128
CREATED:20230413T194034Z
LAST-MODIFIED:20230523T201435Z
UID:10000273-1686081600-1686085200@staging.moonprep.com
SUMMARY:Webinar: Casper Exam -- Tips On How To Ace It
DESCRIPTION:This webinar will be held on June 6 at 8pm ET.  \nThe Computer-Based Assessment for Sampling Personal Characteristics\, better known as Casper\, is a situational judgment test that some medical schools use to evaluate applicants’ ability to handle a tough situation by assessing the following characteristics: \n\nEquity\nEthics\nEmpathy\nResilience\nMotivation\nCollaboration\nSelf-awareness\nCommunication\nProfessionalism\nProblem Solving\n\nMost medical students applying to a wide range of schools will need to take Casper. A few BS/MD programs will also require the exam for their applicants. \nThis webinar will cover: \n\nHow the exam is scored\nThe format of the exam\nWhat ethics you should know\nWhen to use personal examples\nHow to score higher on the exam\n\nEmail lindsey@moonprep.com with any questions you would like covered during the webinar. \nAll registered attendees will receive a link to rewatch the webinar\, even if they cannot attend live. \nSign up here.  \nThis webinar will be held on June 6 at 8pm ET. 
URL:https://staging.moonprep.com/event/webinar-casper-exam-tips-on-how-to-ace-it/
CATEGORIES:Webinar
ATTACH;FMTTYPE=image/png:https://staging.moonprep.com/wp-content/uploads/2023/04/Webinar-Images-5.png
END:VEVENT
BEGIN:VEVENT
DTSTART;TZID=America/New_York:20230615T200000
DTEND;TZID=America/New_York:20230615T210000
DTSTAMP:20260423T060128
CREATED:20230419T181601Z
LAST-MODIFIED:20230523T201756Z
UID:10000275-1686859200-1686862800@staging.moonprep.com
SUMMARY:Webinar: What BS/MD Candidates Need To Do This Summer
DESCRIPTION:This webinar will be held on June 15 at 8pm ET. \nSign up here.  \nDirect medical programs—also known as BS/MD\, BA/MD\, BS/DO\, or BA/DO—are some of the most competitive programs in the college admission process\, with some programs only accepting 6 applicants a year. Students accepted into a BS/MD program can finish their undergraduate studies and go directly into medical school thanks to a partnership between the two institutions. \nFor high school students who already know that they are 100% committed to becoming a doctor\, a direct medical program might be the right choice. Students can get accepted into a medical school at the same time as undergraduate programs\, giving them a distinct advantage over their peers. \nIn this webinar\, we will cover everything you need to know about BS/MD programs\, including: \n\nAdvantages and disadvantages of applying to the program\nWhen to start preparing\nBuilding your academic profile\nExtracurricular activities\n\nAsk questions and get advice from an experienced college counselor at MoonPrep.com. \nSign up here.  \nThis webinar will be held on June 15 at 8pm ET.
URL:https://staging.moonprep.com/event/webinar-what-bs-md-candidates-need-to-do-this-summer/
CATEGORIES:Webinar
ATTACH;FMTTYPE=image/png:https://staging.moonprep.com/wp-content/uploads/2023/04/Webinar-Images-8.png
END:VEVENT
BEGIN:VEVENT
DTSTART;TZID=America/New_York:20230628T200000
DTEND;TZID=America/New_York:20230628T210000
DTSTAMP:20260423T060128
CREATED:20230413T195506Z
LAST-MODIFIED:20230523T202153Z
UID:10000274-1687982400-1687986000@staging.moonprep.com
SUMMARY:Webinar: How To Write A Winning Personal Statement for College
DESCRIPTION:What can you offer the colleges\, besides the numbers? This is where your essay comes in. It turns you into a three-dimensional person and helps you stand out from a crowded field of applicants. \nWriting the personal statement—and even just brainstorming a topic—can be a struggle for high school students. That is why Moon Prep put together the collective knowledge of the team to create a webinar to help you with this tricky topic.  \nIn this webinar\, Moon Prep counselors will go over everything you need to know about writing the personal statement\, including:  \n\nBrainstorming a topic\nWhat topics to avoid\nHow to strengthen your writing \nAnd everything you need to know about the Common App!\n\nParticipants will be able to ask their questions about college admissions and get advice from an experienced college admissions counselor.  \nAll registered attendees will receive a link to the webinar\, even if they cannot attend live.  \nSign up here.
URL:https://staging.moonprep.com/event/webinar-how-to-write-a-winning-personal-statement-for-college/
CATEGORIES:Webinar
ATTACH;FMTTYPE=image/png:https://staging.moonprep.com/wp-content/uploads/2023/04/Webinar-Images-7.png
END:VEVENT
END:VCALENDAR