BEGIN:VCALENDAR
VERSION:2.0
PRODID:-//Moon Prep - ECPv6.15.18//NONSGML v1.0//EN
CALSCALE:GREGORIAN
METHOD:PUBLISH
X-ORIGINAL-URL:https://staging.moonprep.com
X-WR-CALDESC:Events for Moon Prep
REFRESH-INTERVAL;VALUE=DURATION:PT1H
X-Robots-Tag:noindex
X-PUBLISHED-TTL:PT1H
BEGIN:VTIMEZONE
TZID:America/New_York
BEGIN:DAYLIGHT
TZOFFSETFROM:-0500
TZOFFSETTO:-0400
TZNAME:EDT
DTSTART:20220313T070000
END:DAYLIGHT
BEGIN:STANDARD
TZOFFSETFROM:-0400
TZOFFSETTO:-0500
TZNAME:EST
DTSTART:20221106T060000
END:STANDARD
BEGIN:DAYLIGHT
TZOFFSETFROM:-0500
TZOFFSETTO:-0400
TZNAME:EDT
DTSTART:20230312T070000
END:DAYLIGHT
BEGIN:STANDARD
TZOFFSETFROM:-0400
TZOFFSETTO:-0500
TZNAME:EST
DTSTART:20231105T060000
END:STANDARD
BEGIN:DAYLIGHT
TZOFFSETFROM:-0500
TZOFFSETTO:-0400
TZNAME:EDT
DTSTART:20240310T070000
END:DAYLIGHT
BEGIN:STANDARD
TZOFFSETFROM:-0400
TZOFFSETTO:-0500
TZNAME:EST
DTSTART:20241103T060000
END:STANDARD
END:VTIMEZONE
BEGIN:VEVENT
DTSTART;TZID=America/New_York:20230508T170000
DTEND;TZID=America/New_York:20230508T180000
DTSTAMP:20260422T033236
CREATED:20230410T220533Z
LAST-MODIFIED:20230413T194108Z
UID:10000272-1683565200-1683568800@staging.moonprep.com
SUMMARY:Webinar: Q&A with a Medical School Admissions Consultant
DESCRIPTION:Moon Prep will be hosting a live Q&A session to answer many of the questions you have about the college application process. We will be covering everything including: \n\nWhat it’s like working with Moon Prep\nHow to build a unique resume\nPassion projects\nGetting research experience\nMedical school admission essays\nMD vs DO\nand more!\n\nSign up here. 
URL:https://staging.moonprep.com/event/webinar-qa-with-a-medical-school-admissions-consultant/
LOCATION:Virtual Webinar: Zoom
CATEGORIES:Webinar
ATTACH;FMTTYPE=image/png:https://staging.moonprep.com/wp-content/uploads/2023/04/Webinar-Images-4.png
ORGANIZER;CN="Moon Prep":MAILTO:hello@moonprep.com
END:VEVENT
BEGIN:VEVENT
DTSTART;TZID=America/New_York:20230518T200000
DTEND;TZID=America/New_York:20230518T210000
DTSTAMP:20260422T033236
CREATED:20230328T002609Z
LAST-MODIFIED:20230413T194130Z
UID:10000268-1684440000-1684443600@staging.moonprep.com
SUMMARY:Webinar: Q&A With A Moon Prep Counselor
DESCRIPTION:Moon Prep will be hosting a live Q&A session to answer many of the questions you have about the college application process. We will be covering everything including: \n\nWhat it’s like working with Moon Prep\nWhat is a BS/MD (direct medical program)\nHow to build a unique resume\nPassion projects\nGetting research experience when you are still in high school\nCollege admission essays\nWhy choose a BS/MD program\nBS/MD vs traditional pre-med programs\nand more!\n\nSign up here. 
URL:https://staging.moonprep.com/event/qa-with-a-moon-prep-counselor/
LOCATION:Virtual Webinar: YouTube
CATEGORIES:Webinar
ATTACH;FMTTYPE=image/png:https://staging.moonprep.com/wp-content/uploads/2023/03/Webinar-Images-4-min.png
ORGANIZER;CN="Moon Prep":MAILTO:hello@moonprep.com
END:VEVENT
END:VCALENDAR