BEGIN:VCALENDAR
VERSION:2.0
PRODID:-//Moon Prep - ECPv6.15.18//NONSGML v1.0//EN
CALSCALE:GREGORIAN
METHOD:PUBLISH
X-ORIGINAL-URL:https://staging.moonprep.com
X-WR-CALDESC:Events for Moon Prep
REFRESH-INTERVAL;VALUE=DURATION:PT1H
X-Robots-Tag:noindex
X-PUBLISHED-TTL:PT1H
BEGIN:VTIMEZONE
TZID:America/New_York
BEGIN:DAYLIGHT
TZOFFSETFROM:-0500
TZOFFSETTO:-0400
TZNAME:EDT
DTSTART:20200308T070000
END:DAYLIGHT
BEGIN:STANDARD
TZOFFSETFROM:-0400
TZOFFSETTO:-0500
TZNAME:EST
DTSTART:20201101T060000
END:STANDARD
BEGIN:DAYLIGHT
TZOFFSETFROM:-0500
TZOFFSETTO:-0400
TZNAME:EDT
DTSTART:20210314T070000
END:DAYLIGHT
BEGIN:STANDARD
TZOFFSETFROM:-0400
TZOFFSETTO:-0500
TZNAME:EST
DTSTART:20211107T060000
END:STANDARD
BEGIN:DAYLIGHT
TZOFFSETFROM:-0500
TZOFFSETTO:-0400
TZNAME:EDT
DTSTART:20220313T070000
END:DAYLIGHT
BEGIN:STANDARD
TZOFFSETFROM:-0400
TZOFFSETTO:-0500
TZNAME:EST
DTSTART:20221106T060000
END:STANDARD
END:VTIMEZONE
BEGIN:VEVENT
DTSTART;TZID=America/New_York:20210603T200000
DTEND;TZID=America/New_York:20210603T210000
DTSTAMP:20260423T170228
CREATED:20210426T195636Z
LAST-MODIFIED:20210528T184912Z
UID:10000168-1622750400-1622754000@staging.moonprep.com
SUMMARY:How To Get Published in a Scientific Journal While Still In High School
DESCRIPTION:Getting recognized for your scientific research while still in high school might seem like an impossible task.  \nMoon Prep Counselors Lindsey and Michaela will cover how students can build their scientific resume and impress college admissions counselors by completing research\, writing a research paper\, and getting it published in a scientific journal… all while still in high school! \nParticipants will be able to ask any questions and have an experienced counselor provide expert guidance. \nEven if you can’t make the webinar date\, a recording will be sent out to everyone who registered. \nSign up here.  \nABOUT MOON PREP \nMoon Prep is comprised of a team of experienced college counselors that guide students through the entire application process\, providing one-on-one customized attention. Our focus is to help students create an application that sets them apart from the pack\, conveys what they have to offer the college\, and why they are a great fit. Moon Prep works with students around the globe and partners with them to make their dream college a reality. 
URL:https://staging.moonprep.com/event/how-to-get-published-in-a-scientific-journal-while-still-in-high-school/
LOCATION:Virtual Webinar: YouTube
CATEGORIES:Webinar
ATTACH;FMTTYPE=image/png:https://staging.moonprep.com/wp-content/uploads/2021/04/Webinar-Images-10.png
ORGANIZER;CN="Moon Prep":MAILTO:hello@moonprep.com
END:VEVENT
BEGIN:VEVENT
DTSTART;TZID=America/New_York:20210610T200000
DTEND;TZID=America/New_York:20210610T210000
DTSTAMP:20260423T170228
CREATED:20210426T184820Z
LAST-MODIFIED:20210426T200324Z
UID:10000164-1623355200-1623358800@staging.moonprep.com
SUMMARY:What BS/MD Candidates Need To Do This Summer
DESCRIPTION:Direct medical programs—also known as BS/MD\, BA/MD\, BS/DO\, or BA/DO—are some of the most competitive programs in the college admission process\, with some programs only accepting 6 applicants a year. Students accepted into a BS/MD program can finish their undergraduate studies and go directly into medical school thanks to a partnership between the two institutions. \nFor high school students who already know that they are 100% committed to becoming a doctor\, a direct medical program might be the right choice. Students can get accepted into a medical school at the same time as undergraduate programs\, giving them a distinct advantage over their peers.  \nIn this webinar\, we will cover everything you need to know about BS/MD programs\, including:  \n\nAdvantages and disadvantages of applying to the program\nWhen to start preparing\nBuilding your academic profile\nExtracurricular activities\n\nAsk questions and get advice from an experienced college counselor at MoonPrep.com.  \nSign up here.  \nABOUT MOON PREP \nMoon Prep is comprised of a team of experienced college counselors that guide students through the entire application process\, providing one-on-one customized attention. Our focus is to help students create an application that sets them apart from the pack\, conveys what they have to offer the college\, and why they are a great fit. Moon Prep works with students around the globe and partners with them to make their dream college a reality. \n 
URL:https://staging.moonprep.com/event/what-bs-md-candidates-need-to-do-this-summer/
LOCATION:Virtual Webinar: YouTube
CATEGORIES:Webinar
ATTACH;FMTTYPE=image/png:https://staging.moonprep.com/wp-content/uploads/2021/04/Webinar-Images-3.png
ORGANIZER;CN="Moon Prep":MAILTO:hello@moonprep.com
END:VEVENT
BEGIN:VEVENT
DTSTART;TZID=America/New_York:20210624T200000
DTEND;TZID=America/New_York:20210624T210000
DTSTAMP:20260423T170228
CREATED:20210426T190022Z
LAST-MODIFIED:20210623T173512Z
UID:10000165-1624564800-1624568400@staging.moonprep.com
SUMMARY:A Checklist for Summer for Rising Seniors
DESCRIPTION:For rising seniors\, the summer before application season begins is more important than ever.  \nMoon Prep Counselor Lindsey and Nidhi will cover a checklist for the summer for rising seniors\, including how to build your resume\, prepare for the college application and understand the college admission process. \nParticipants will be able to ask any questions and have an experienced counselor provide expert guidance. \nEven if you can’t make the webinar date\, a recording will be sent out to everyone who registered. \nSign up here.  \nABOUT MOON PREP \nMoon Prep is comprised of a team of experienced college counselors that guide students through the entire application process\, providing one-on-one customized attention. Our focus is to help students create an application that sets them apart from the pack\, conveys what they have to offer the college\, and why they are a great fit. Moon Prep works with students around the globe and partners with them to make their dream college a reality.
URL:https://staging.moonprep.com/event/a-checklist-for-summer-for-rising-seniors/
LOCATION:Virtual Webinar: YouTube
CATEGORIES:Webinar
ATTACH;FMTTYPE=image/png:https://staging.moonprep.com/wp-content/uploads/2021/04/Webinar-Images-4.png
ORGANIZER;CN="Moon Prep":MAILTO:hello@moonprep.com
END:VEVENT
END:VCALENDAR